BEGIN:VCALENDAR
PRODID:-//Microsoft Corporation//Outlook 9.0 MIMEDIR//EN
VERSION:2.0
CALSCALE:GREGORIAN
BEGIN:VTIMEZONE
TZID:Europe/Brussels
BEGIN:DAYLIGHT
TZOFFSETFROM:+0100
RRULE:FREQ=YEARLY;BYMONTH=3;BYDAY=-1SU
DTSTART:19810329T020000
TZNAME:CEST
TZOFFSETTO:+0200
END:DAYLIGHT
BEGIN:STANDARD
TZOFFSETFROM:+0200
RRULE:FREQ=YEARLY;BYMONTH=10;BYDAY=-1SU
DTSTART:19961027T030000
TZNAME:CET
TZOFFSETTO:+0100
END:STANDARD
END:VTIMEZONE

BEGIN:VEVENT
DTSTART;TZID=Europe/Brussels:20260512T091500
DTEND;TZID=Europe/Brussels:20260512T144500
LOCATION:BNP Paribas Fortis Auditorium, Rue de la Chancellerie 1, 1000 Bruxelles, Belgium, , 
SUMMARY:Financing Europe | A New Era of Strategic Investment

END:VEVENT
END:VCALENDAR